BEGIN:VCALENDAR
VERSION:2.0
PRODID:-//Authors of the Flathead - ECPv6.15.20//NONSGML v1.0//EN
CALSCALE:GREGORIAN
METHOD:PUBLISH
X-WR-CALNAME:Authors of the Flathead
X-ORIGINAL-URL:https://dev.authorsoftheflathead.org
X-WR-CALDESC:Events for Authors of the Flathead
REFRESH-INTERVAL;VALUE=DURATION:PT1H
X-Robots-Tag:noindex
X-PUBLISHED-TTL:PT1H
BEGIN:VTIMEZONE
TZID:America/Denver
BEGIN:DAYLIGHT
TZOFFSETFROM:-0700
TZOFFSETTO:-0600
TZNAME:MDT
DTSTART:20240310T090000
END:DAYLIGHT
BEGIN:STANDARD
TZOFFSETFROM:-0600
TZOFFSETTO:-0700
TZNAME:MST
DTSTART:20241103T080000
END:STANDARD
BEGIN:DAYLIGHT
TZOFFSETFROM:-0700
TZOFFSETTO:-0600
TZNAME:MDT
DTSTART:20250309T090000
END:DAYLIGHT
BEGIN:STANDARD
TZOFFSETFROM:-0600
TZOFFSETTO:-0700
TZNAME:MST
DTSTART:20251102T080000
END:STANDARD
BEGIN:DAYLIGHT
TZOFFSETFROM:-0700
TZOFFSETTO:-0600
TZNAME:MDT
DTSTART:20260308T090000
END:DAYLIGHT
BEGIN:STANDARD
TZOFFSETFROM:-0600
TZOFFSETTO:-0700
TZNAME:MST
DTSTART:20261101T080000
END:STANDARD
END:VTIMEZONE
BEGIN:VEVENT
DTSTART;TZID=America/Denver:20251003T100000
DTEND;TZID=America/Denver:20251003T163000
DTSTAMP:20260420T114222
CREATED:20250609T184956Z
LAST-MODIFIED:20260418T123941Z
UID:2246-1759485600-1759509000@dev.authorsoftheflathead.org
SUMMARY:Agent Pitch Session with Julie Stevenson
DESCRIPTION:This session is now full. Tickets are no longer available.\n  \nFor full conference registrants only.\n  \nJULIE STEVENSON is a literary agent with Massie\, McQuilkin & Altman Literary Agents in New York. She represents literary and upmarket fiction\, suspense\, memoir\, graphic novels\, narrative nonfiction\, young adult fiction and children’s picture books. She is drawn to storytelling with unforgettable characters\, an authorial command of voice\, and a strong sense of narrative tension. She looks for work that explores the depths of human experience\, particularly the many facets of ethnicity\, gender\, sexual orientation\, social class\, and regional and international backgrounds. She’s agented #1 New York Times and international best sellers\, as well as books that have won the Pulitzer Prize\, the Center for Fiction First Novel Prize\, the Carnegie Medal for Excellence\, the National Book Critics Circle Award\, the Dayton Literary Peace Award\, the Eisner Honor\, and the Caldecott Honor. Before she became an agent\, Julie worked in the editorial departments of Tin House and Publishers Weekly. She received her bachelor’s degree in English Literature from Washington University in St. Louis and an M.F.A in Creative Writing from Sarah Lawrence College in New York.
URL:https://dev.authorsoftheflathead.org/registration/agent-pitch-session-with-julie-stevenson/
LOCATION:Hilton Garden Inn\, 1840 U.S. 93 S\, Kalispell\, MT\, 59901
CATEGORIES:Conferences
ATTACH;FMTTYPE=image/jpeg:https://dev.authorsoftheflathead.org/wp-content/uploads/2025/06/Julie-Stevenson-featured.jpg
END:VEVENT
END:VCALENDAR